BEGIN:VCALENDAR
VERSION:2.0
PRODID:icalendar-ruby
CALSCALE:GREGORIAN
METHOD:PUBLISH
BEGIN:VEVENT
DTSTAMP:20260423T213151Z
UID:102-639114@stthomascambridge.ca
DTSTART:20261020T200000Z
DTEND:20261020T220000Z
CLASS:PUBLIC
CREATED:20260423T130114
DESCRIPTION:Please join us for a joint "St. Luke's / St. Thomas bible stud
 y" every Tuesday afternoon.  We will meet at St. Thomas (110 Francis St) 
 one month \, then switch to St. Luke's (1485 Mary Ave) the next and contin
 ue alternating monthly.\nNOTE:    We will be at St. Thomas in January 2
 026.\nThe studies are based on the readings for the upcoming week\, so the
 re's no problem if you miss one or two.  Please contact Kathy Brown\, Ric
 k Furnival or Pastor Craig if you would like a ride.
LAST-MODIFIED:20260423T130114
LOCATION:
SUMMARY:Weekly Bible Study
URL;VALUE=URI:https://stthomascambridge.ca/events/weekly-bible-study/2026-1
 0-20
ATTACH;FILENAME=download.jpg;FMTTYPE=image/jpeg:https://dq5pwpg1q8ru0.cloud
 front.net/2025/01/07/15/59/27/33d34fe3-0e8b-40ee-99d5-4fd02c4f4fdb/downloa
 d.jpg
END:VEVENT
END:VCALENDAR
